BEGIN:VCALENDAR
VERSION:2.0
PRODID:-//Minnesota 100 Club - ECPv6.10.1.1//NONSGML v1.0//EN
CALSCALE:GREGORIAN
METHOD:PUBLISH
X-ORIGINAL-URL:https://mn100club.org
X-WR-CALDESC:Events for Minnesota 100 Club
REFRESH-INTERVAL;VALUE=DURATION:PT1H
X-Robots-Tag:noindex
X-PUBLISHED-TTL:PT1H
BEGIN:VTIMEZONE
TZID:America/Chicago
BEGIN:DAYLIGHT
TZOFFSETFROM:-0600
TZOFFSETTO:-0500
TZNAME:CDT
DTSTART:20240310T080000
END:DAYLIGHT
BEGIN:STANDARD
TZOFFSETFROM:-0500
TZOFFSETTO:-0600
TZNAME:CST
DTSTART:20241103T070000
END:STANDARD
BEGIN:DAYLIGHT
TZOFFSETFROM:-0600
TZOFFSETTO:-0500
TZNAME:CDT
DTSTART:20250309T080000
END:DAYLIGHT
BEGIN:STANDARD
TZOFFSETFROM:-0500
TZOFFSETTO:-0600
TZNAME:CST
DTSTART:20251102T070000
END:STANDARD
TZID:UTC
BEGIN:STANDARD
TZOFFSETFROM:+0000
TZOFFSETTO:+0000
TZNAME:UTC
DTSTART:20220101T000000
END:STANDARD
TZID:America/Chicago
BEGIN:DAYLIGHT
TZOFFSETFROM:-0600
TZOFFSETTO:-0500
TZNAME:CDT
DTSTART:20200308T080000
END:DAYLIGHT
BEGIN:STANDARD
TZOFFSETFROM:-0500
TZOFFSETTO:-0600
TZNAME:CST
DTSTART:20201101T070000
END:STANDARD
BEGIN:DAYLIGHT
TZOFFSETFROM:-0600
TZOFFSETTO:-0500
TZNAME:CDT
DTSTART:20210314T080000
END:DAYLIGHT
BEGIN:STANDARD
TZOFFSETFROM:-0500
TZOFFSETTO:-0600
TZNAME:CST
DTSTART:20211107T070000
END:STANDARD
END:VTIMEZONE
BEGIN:VEVENT
DTSTART;VALUE=DATE:20250930
DTEND;VALUE=DATE:20251001
DTSTAMP:20260421T125144
CREATED:20230524T211246Z
LAST-MODIFIED:20250703T140518Z
UID:1415-1759190400-1759276799@mn100club.org
SUMMARY:MN 100 Club Annual Golf Tournament
DESCRIPTION:September 30\, 2025 \nBUNKER HILLS GOLF CLUB \n11:00 A.M. – REGISTRATION OPENS12:00 P.M. – SHOTGUN STARTFOLLOWING GOLF – DINNER AND AWARDS CEREMONY \nOur mission at the Minnesota 100 Club is to provide financial assistance to the families of peace officers\, firefighters\, correctional officers\, and EMS who work in Minnesota and who are seriously injured or killed in the line of duty while protecting our lives and property. \nAll proceeds from this event will support Minnesota’s First Responders who protect us every day! \nEvent Registration\nGolfer Registration\n\n\nCost is $200 per person / $800 for a foursome registering together. Registration includes lunch\, a round of golf\, cart\, and dinner. If you are a single golfer\, register below and you will be assigned to a foursome.\n\n\n\n\n\nSponsorship Opportunities\nSponsor Registration\nFirst Responder Sponsor: $10\,000\nThis sponsorship provides our committee the ability to offer interested First Responders golf and dinner at no charge. \n\nLogo on event marketing material and day of signage\nSpecial thanks from the podium during our opening remarks\nLogo included on signage thanking all sponsors\, day of event\nIncludes one foursome of First Responders or your twosome matched with two First Responders\n\nDinner Sponsor: $10\,000\n\nSignage at dinner reception\nRecognition during the opening remarks and dinner reception\nLogo included on signage thanking all sponsors\, day of event\nProminent table for 10 guests at dinner reception\nIncludes one foursome\n\nBag Drop Sponsor: $5\,000\n\nBanner at bag drop with company logo prominently displayed as people arrive\nLogo included on MN100 Club Facebook\, LinkedIn and Instagram thank you\nLogo included on signage thanking all sponsors\, day of event\n2 lunch and dinner reception tickets\n\nLunch Sponsor: $5\,000\n\nSignage at lunch buffet with company logo\nMention of thanks at the opening remarks\nLogo included on signage thanking all sponsors\, day of event\n2 lunch and dinner reception tickets\n\nGolf Ball Sponsor: $5\,000\n\nYour logo and the MN 100 Club logo will be printed on Pro V1 golf balls and given to each golfer (one sleeve per registered golfer)\nHost table near registration\nLogo included on signage thanking all sponsors\, day of event\n2 lunch and dinner reception tickets\n\nBeverage Sponsor: $2\,500 – 3 Available\n\n Signage at refreshment stations with company logo\nMention of thanks at opening ceremony\nBranded drink tickets with company logo\nLogo included on signage thanking all sponsors\, day of event\n2 dinner reception tickets\n\nHole Sponsor: $1\,000\n\nLocation at tee box where you can set up your table/tent\nSign with logo at hole\nLogo included on signage thanking all sponsors\, day of event.\nList and tee times for all golfers\n2 lunch tickets\n\nSwag Sponsor\n\nPrimary sponsor featured on check in table with swag table next to registration\nLogo included on signage thanking all sponsors\, day of event\nSpecial social media promotion of swag item and company donating\n2 lunch and dinner reception tickets for primary swag sponsor
URL:https://mn100club.org/event/annual-golf-tournament-2025/
LOCATION:MN
ATTACH;FMTTYPE=image/jpeg:https://mn100club.org/wp-content/uploads/2023/05/Bunker-Hills-Golf-Club_Home_Slide-1-scaled.jpg
END:VEVENT
BEGIN:VEVENT
DTSTART;TZID=America/Chicago:20250603T170000
DTEND;TZID=America/Chicago:20250603T220000
DTSTAMP:20260421T125144
CREATED:20250204T163312Z
LAST-MODIFIED:20250422T130603Z
UID:1827-1748970000-1748988000@mn100club.org
SUMMARY:Protect the Protectors Dinner
DESCRIPTION:MINNESOTA 100 CLUB\n53rd Protect the Protectors Dinner\nTUESDAY\, JUNE 3rd\, 2025\nJAX CAFE\n1928 University Ave NE\, Mpls \nTickets \n\nIndividual Ticket – $250\nTable Sponsor ( 8 tickets ) – $3\,000\n\nSponsorship Opportunities \n\nAuction Sponsor – $5\,000\nRoll Call Families Sponsor – $7\,500\nFirst Responder of the Year Award Winners – $7\,500\nWelcome Reception Sponsor – $10\,000\nDinner Sponsor – $15\,000\n\nTickets and Sponsorship Registration
URL:https://mn100club.org/event/2025-protect-the-protectors-dinner/
LOCATION:The Historic Jax Cafe\, 1928 University Ave NE\, Minneapolis\, MN\, 55418\, United States
ATTACH;FMTTYPE=image/jpeg:https://mn100club.org/wp-content/uploads/2021/09/slider-vanner.jpg
END:VEVENT
BEGIN:VEVENT
DTSTART;TZID=America/Chicago:20240423T170000
DTEND;TZID=America/Chicago:20240423T200000
DTSTAMP:20260421T125144
CREATED:20240112T160222Z
LAST-MODIFIED:20240308T165918Z
UID:1526-1713891600-1713902400@mn100club.org
SUMMARY:Protect the Protectors Dinner
DESCRIPTION:Please Join Us…\nMINNESOTA 100 CLUB\n52nd Protect the Protectors Dinner\nTUESDAY\, APRIL 23rd\, 2024\nJAX CAFE\n1928 University Ave NE\, Mpls \n5 P.M. – SOCIAL HOUR AND SILENT AUCTION\n6 P.M. – DINNER \n\nThe event is nearly sold out\, so online registration for the MN 100 Club Anniversary Dinner on April 23rd is now closed! \nTo inquiry about ticket availability or to support the event through a sponsorship\, donation\, live or silent auction contribution\, please call Julie at 612-859-4576. \nOur auction will be on line this year!  Please email execdir@mn100club.org to be notified when the auction opens. \nThank you for your support! 
URL:https://mn100club.org/event/protect-the-protectors-dinner/
LOCATION:The Historic Jax Cafe\, 1928 University Ave NE\, Minneapolis\, MN\, 55418\, United States
ATTACH;FMTTYPE=image/jpeg:https://mn100club.org/wp-content/uploads/2021/09/slider-vanner.jpg
END:VEVENT
BEGIN:VEVENT
DTSTART;TZID=UTC:20221025T170000
DTEND;TZID=UTC:20221025T210000
DTSTAMP:20260421T125144
CREATED:20220914T141202Z
LAST-MODIFIED:20220919T164141Z
UID:1219-1666717200-1666731600@mn100club.org
SUMMARY:50th Anniversary Protect the Protectors Dinner
DESCRIPTION:Please Join Us…\nMINNESOTA 100 CLUB\n50th Anniversary Protect the Protectors Dinner\nTUESDAY\, OCTOBER 25TH\nJAX CAFÉ\n1928 University Ave NE\, Mpls \n5 P.M. – SOCIAL HOUR AND SILENT AUCTION\n6 P.M. – DINNER \nPurchase Tickets & Sponsorships\nProgram and Live Auction following Dinner\nOur mission at the Minnesota 100 Club is to provide financial assistance to the families of peace officers\, firefighters\, correctional officers\, and EMS who live in Minnesota and who are seriously injured or killed in the line of duty while protecting our lives and property. All proceeds from this dinner will support Minnesota’s First Responders who protect us every day! \nSponsorship Opportunities\n \nIndividual Ticket – $200 / Individual Premium Ticket – $300\nPurchase Tickets & Sponsorships \nFor questions about sponsorship and other ways to show your support for our First Responders\, please call or email Julie Gotham at 612-859-4576 or julie@gothammail.com. \nThank you for helping Protect the Protectors!
URL:https://mn100club.org/event/50th-anniversary-protect-the-protectors-dinner/
LOCATION:The Historic Jax Cafe\, 1928 University Ave NE\, Minneapolis\, MN\, 55418\, United States
ATTACH;FMTTYPE=image/jpeg:https://mn100club.org/wp-content/uploads/2019/10/mn100-6.jpg
END:VEVENT
BEGIN:VEVENT
DTSTART;VALUE=DATE:20220804
DTEND;VALUE=DATE:20220805
DTSTAMP:20260421T125144
CREATED:20220425T135658Z
LAST-MODIFIED:20230524T211359Z
UID:1167-1659571200-1659657599@mn100club.org
SUMMARY:Shooting Straight with Sheriff Stanek (Ret.) Annual Golf Tournament - 2022
DESCRIPTION:Shooting Straight with Sheriff Stanek (Ret.)\nAnnual Golf Tournament\nto benefit the Minnesota 100 Club\nOur annual golf tournament will be held on Thursday\, August 4th\, 2022\, at Pheasant Run Golf Club in Corcoran\, MN (10705 County Road 116\, Corcoran\, MN). The tournament with be an 18 Hole Scramble – Shot Gun Start at 12pm. Sign up individually or as a team of four players! \nEvent Registration\n\n\n\nCost is $175 per person or $700 for a foursome registering together. Registration includes lunch\, a round of golf\, cart\, and dinner. If you are a single golfer\, register below and you will be assigned to a foursome. \nSingle Golfer Registration\nFoursome Registration\n\n\n\n\n\nSponsorship Opportunities\nSponsor Registration\nPresenting Sponsor-$5000\nIncludes two foursomes and four carts\, name and logo on all event communications\, course signage\, name and logo on event Welcome Banner\, name and logo on all event social media\, name in after-event press release\, beverage tickets\, eight boxed lunches\, dinner and our unending gratitude \nHole-In-One Sponsor – $2500\nIf you like a little excitement on the golf course\, this is for you! Includes Hole-in-One Sponsorship on every par four\, signage\, an opportunity to have a company representative on the course\, and four special pin flags just for your company. Includes dinner and drink tickets for one foursome. Did we mention that you will receive our unending gratitude? \nEagle Sponsor-$2000\nIncludes one foursome and two carts guaranteed\, course signage\, name and logo on event Welcome Banner\, name and logo on all event social media\, name in after-event press release\, beverage tickets\, four boxed lunches\, dinner and our unending gratitude \nBirdie Sponsor- $1500\nIncludes one foursome and two carts guaranteed\, course signage\, name and logo on event sponsor banner\, beverage tickets\, dinner and our unending gratitude \nPar Sponsor- $1250\nIncludes one foursome and two carts guaranteed\, name and logo on event sponsor banner\, dinner and our unending gratitude \nBogie Sponsor- $1000\nSignage on course\, opportunity to have a company representative on the hole and one dinner \n“Defender” Sponsorship – $500\nIf you are unable to golf but can help our Minnesota First Responders\, please consider being a “Defender.” Sponsors at this level receive all event recognition\, dinner and two beverage tickets. \nOther Sponsorships Available\nDinner Sponsor–$3000\nIncludes company name and signage at dinner\, name and logo on event sponsor banner\, dinner and our unending gratitude \nLunch Sponsor—$2000\nIncludes company name and signage at lunch\, name and logo on event sponsor banner\, dinner and our unending gratitude \nBeverage Sponsor–$2000\nIncludes your name on the beverage carts\, one complimentary drink ticket for each golfer with your company name and logo on the ticket\, name and logo on event sponsor banner\, dinner and our unending gratitude \n 
URL:https://mn100club.org/event/shooting-straight-with-sheriff-stanek-ret-annual-golf-tournament-2022/
LOCATION:Pheasant Run Golf Club\, 10705 County Rd 116\, Rogers\, MN\, 55374\, United States
ATTACH;FMTTYPE=image/png:https://mn100club.org/wp-content/uploads/2020/03/golf-registration-img.png
END:VEVENT
BEGIN:VEVENT
DTSTART;TZID=America/Chicago:20211103T170000
DTEND;TZID=America/Chicago:20211103T170000
DTSTAMP:20260421T125144
CREATED:20191209T175657Z
LAST-MODIFIED:20211011T191127Z
UID:797-1635958800-1635958800@mn100club.org
SUMMARY:Annual Minnesota 100 Club Gala
DESCRIPTION:Benefit Honoring Fire\, Law Enforcement\, EMS\, and Correction Officers\nThe event has been scheduled for November 3rd\, 2021.\nMinneapolis Golf Club\n2001 Flag Ave. S. / St. Louis Park\, MN 55426 \n\nSocial Hour: 5:00 p.m.\nDinner & Annual Meeting: 6:00-8:00 p.m.\n\nTickets: $150 & $250 \n \nSpecial Guest Speakers \n\nArik Matson\, Waseca Police Officer\, and his wife Megan Matson\n2020 MPPOA Officer Of The Year \nAngela Harrolle\nCEO/President of Arizona 100 Club \nEvent Sponsorships and Table Packages\nFor event sponsorships and table packages\, contact Lanee Noble at 612-247-2262 or lnoble@falconnational.com \nPurchase Tickets\nNot able to attend? \nMake a Donation
URL:https://mn100club.org/event/annual-fire-law-enforcement-ems-and-corrections-officers-gala/
LOCATION:Minneapolis Golf Club\, 2001 Flag Ave. S.\, St. Louis Park\, MN\, 55426\, United States
ATTACH;FMTTYPE=image/jpeg:https://mn100club.org/wp-content/uploads/2021/09/slider-vanner.jpg
END:VEVENT
BEGIN:VEVENT
DTSTART;VALUE=DATE:20210805
DTEND;VALUE=DATE:20210806
DTSTAMP:20260421T125144
CREATED:20201109T205337Z
LAST-MODIFIED:20220425T134841Z
UID:918-1628121600-1628207999@mn100club.org
SUMMARY:Shooting Straight with Sheriff Stanek (Ret.) Annual Golf Tournament - 2021
DESCRIPTION:MN100 Annual Golf Tournament\nOur annual golf tournament will be held on Thursday\, August 5\, 2021\, at Pheasant Run Golf Club in Corcoran\, MN (10705 County Road 116\, Corcoran\, MN). The tournament with be an 18 Hole Scramble – Shot Gun Start at 12pm. Registration is at 11:00am. Sign up individually or as a team of four players! \nView Golf Event Flyer\nEvent Registration\nRegister Individual Golfers And Foursomes | Deadline for Registration: July 15th\, 2021\n\n\nCost is $150 per person ($80 is tax-deductible) and includes lunch\, a round of golf\, cart\, free-range practice and balls\, and BBQ dinner. If you are a single golfer\, register below and you will be assigned to a foursome. \nRegister for Golf\nHole Sponsorships\nWe are looking for individuals and corporations to help sponsor the tournament and also to provide prizes and donations. Hole Sponsorships are available for $1\,000 per hole. Sponsorship recognition includes a hole sponsor sign on the tee\, flyers provided at dinner\, and registration and listing on the website as well as in the annual MN 100 Club roster. Your donations are tax-deductible\, as the MN 100 Club is a non-profit 501c.3. A receipt of donation will be sent to you upon request. \n\nView Sponsorship Flyer\n \nBecome a Sponsor
URL:https://mn100club.org/event/shooting-straight-with-sheriff-stanek-ret-annual-golf-tournament/
LOCATION:Pheasant Run Golf Club\, 10705 County Rd 116\, Rogers\, MN\, 55374\, United States
ATTACH;FMTTYPE=image/png:https://mn100club.org/wp-content/uploads/2020/03/golf-registration-img.png
END:VEVENT
BEGIN:VEVENT
DTSTART;VALUE=DATE:20200806
DTEND;VALUE=DATE:20200807
DTSTAMP:20260421T125144
CREATED:20200309T135709Z
LAST-MODIFIED:20200630T195335Z
UID:839-1596672000-1596758399@mn100club.org
SUMMARY:Shooting Straight with Sheriff Stanek (Ret.) Annual Golf Tournament
DESCRIPTION:Shooting Straight with Sheriff Stanek (Ret.)\nAnnual Golf Tournament\nto benefit the Minnesota 100 Club\nOur annual golf tournament will be held on Thursday\, August 6\, 2020\, at Pheasant Run Golf Club in Corcoran\, MN (10705 County Road 116\, Corcoran\, MN). The tournament with be an 18 Hole Scramble – Shot Gun Start at 12pm. Registration is at 11:00am. Sign up individually or as a team of four players! \nEvent Registration\nThe deadline for registration is July 15th.\n\n\n\nCost is $150 per person ($60 is tax-deductible) and includes lunch\, a round of golf\, cart\, free-range practice and balls\, and BBQ dinner. If you are a single golfer\, register below and you will be assigned to a foursome. \nRegister Here \nHole Sponsorships\nWe are looking for individuals and corporations to help sponsor the tournament and also to provide prizes and donations. Hole Sponsorships are available for $1\,000 per hole. Sponsorship recognition includes a hole sponsor sign on the tee\, flyers provided at dinner and registration and listing on the website as well as in the annual MN 100 Club roster. Your donations are tax-deductible\, as the MN 100 Club is a non-profit 501c.3. A receipt of donation will be sent to you upon request. \nRegister Here
URL:https://mn100club.org/event/mn100club-annual-golf-tournament/
LOCATION:Pheasant Run Golf Club\, 10705 County Rd 116\, Rogers\, MN\, 55374\, United States
ATTACH;FMTTYPE=image/png:https://mn100club.org/wp-content/uploads/2020/03/golf-registration-img.png
END:VEVENT
END:VCALENDAR